BEGIN:VCALENDAR
VERSION:2.0
PRODID:-//Robins AFB - ECPv6.15.20//NONSGML v1.0//EN
CALSCALE:GREGORIAN
METHOD:PUBLISH
X-WR-CALNAME:Robins AFB
X-ORIGINAL-URL:https://robinsfss.com
X-WR-CALDESC:Events for Robins AFB
REFRESH-INTERVAL;VALUE=DURATION:PT1H
X-Robots-Tag:noindex
X-PUBLISHED-TTL:PT1H
BEGIN:VTIMEZONE
TZID:UTC
BEGIN:STANDARD
TZOFFSETFROM:+0000
TZOFFSETTO:+0000
TZNAME:UTC
DTSTART:20250101T000000
END:STANDARD
END:VTIMEZONE
BEGIN:VEVENT
DTSTART;TZID=UTC:20260422T090000
DTEND;TZID=UTC:20260422T100000
DTSTAMP:20260422T094444
CREATED:20240812T170757Z
LAST-MODIFIED:20241223T202435Z
UID:10009369-1776848400-1776852000@robinsfss.com
SUMMARY:Aqua Challenge Fitness Class
DESCRIPTION:Jump right into our aqua classes to build cardiovascular fitness and strength! Our water aerobic classes are easy on your joints\, yet challenging enough to help you reach new levels of fitness. This is a low-impact water aerobics class\, and is suitable to all fitness levels.
URL:https://robinsfss.com/event/aqua-challenge-fitness-class/2026-04-22/
LOCATION:Fitness Center\, 826 Eighth Street\, Robins AFB\, GA\, 31098\, United States
CATEGORIES:Aquatics,Fitness Classes
ATTACH;FMTTYPE=image/png:https://robinsfss.com/wp-content/uploads/2024/08/aquaclass.png
END:VEVENT
BEGIN:VEVENT
DTSTART;TZID=UTC:20260427T090000
DTEND;TZID=UTC:20260427T100000
DTSTAMP:20260422T094444
CREATED:20240812T170757Z
LAST-MODIFIED:20241223T202435Z
UID:10009378-1777280400-1777284000@robinsfss.com
SUMMARY:Aqua Challenge Fitness Class
DESCRIPTION:Jump right into our aqua classes to build cardiovascular fitness and strength! Our water aerobic classes are easy on your joints\, yet challenging enough to help you reach new levels of fitness. This is a low-impact water aerobics class\, and is suitable to all fitness levels.
URL:https://robinsfss.com/event/aqua-challenge-fitness-class/2026-04-27/
LOCATION:Fitness Center\, 826 Eighth Street\, Robins AFB\, GA\, 31098\, United States
CATEGORIES:Aquatics,Fitness Classes
ATTACH;FMTTYPE=image/png:https://robinsfss.com/wp-content/uploads/2024/08/aquaclass.png
END:VEVENT
BEGIN:VEVENT
DTSTART;TZID=UTC:20260429T090000
DTEND;TZID=UTC:20260429T100000
DTSTAMP:20260422T094444
CREATED:20240812T170757Z
LAST-MODIFIED:20241223T202435Z
UID:10009384-1777453200-1777456800@robinsfss.com
SUMMARY:Aqua Challenge Fitness Class
DESCRIPTION:Jump right into our aqua classes to build cardiovascular fitness and strength! Our water aerobic classes are easy on your joints\, yet challenging enough to help you reach new levels of fitness. This is a low-impact water aerobics class\, and is suitable to all fitness levels.
URL:https://robinsfss.com/event/aqua-challenge-fitness-class/2026-04-29/
LOCATION:Fitness Center\, 826 Eighth Street\, Robins AFB\, GA\, 31098\, United States
CATEGORIES:Aquatics,Fitness Classes
ATTACH;FMTTYPE=image/png:https://robinsfss.com/wp-content/uploads/2024/08/aquaclass.png
END:VEVENT
BEGIN:VEVENT
DTSTART;TZID=UTC:20260504T090000
DTEND;TZID=UTC:20260504T100000
DTSTAMP:20260422T094444
CREATED:20240812T170757Z
LAST-MODIFIED:20241223T202435Z
UID:10009393-1777885200-1777888800@robinsfss.com
SUMMARY:Aqua Challenge Fitness Class
DESCRIPTION:Jump right into our aqua classes to build cardiovascular fitness and strength! Our water aerobic classes are easy on your joints\, yet challenging enough to help you reach new levels of fitness. This is a low-impact water aerobics class\, and is suitable to all fitness levels.
URL:https://robinsfss.com/event/aqua-challenge-fitness-class/2026-05-04/
LOCATION:Fitness Center\, 826 Eighth Street\, Robins AFB\, GA\, 31098\, United States
CATEGORIES:Aquatics,Fitness Classes
ATTACH;FMTTYPE=image/png:https://robinsfss.com/wp-content/uploads/2024/08/aquaclass.png
END:VEVENT
BEGIN:VEVENT
DTSTART;TZID=UTC:20260506T090000
DTEND;TZID=UTC:20260506T100000
DTSTAMP:20260422T094444
CREATED:20240812T170757Z
LAST-MODIFIED:20241223T202435Z
UID:10009400-1778058000-1778061600@robinsfss.com
SUMMARY:Aqua Challenge Fitness Class
DESCRIPTION:Jump right into our aqua classes to build cardiovascular fitness and strength! Our water aerobic classes are easy on your joints\, yet challenging enough to help you reach new levels of fitness. This is a low-impact water aerobics class\, and is suitable to all fitness levels.
URL:https://robinsfss.com/event/aqua-challenge-fitness-class/2026-05-06/
LOCATION:Fitness Center\, 826 Eighth Street\, Robins AFB\, GA\, 31098\, United States
CATEGORIES:Aquatics,Fitness Classes
ATTACH;FMTTYPE=image/png:https://robinsfss.com/wp-content/uploads/2024/08/aquaclass.png
END:VEVENT
BEGIN:VEVENT
DTSTART;TZID=UTC:20260511T090000
DTEND;TZID=UTC:20260511T100000
DTSTAMP:20260422T094444
CREATED:20240812T170757Z
LAST-MODIFIED:20241223T202435Z
UID:10009401-1778490000-1778493600@robinsfss.com
SUMMARY:Aqua Challenge Fitness Class
DESCRIPTION:Jump right into our aqua classes to build cardiovascular fitness and strength! Our water aerobic classes are easy on your joints\, yet challenging enough to help you reach new levels of fitness. This is a low-impact water aerobics class\, and is suitable to all fitness levels.
URL:https://robinsfss.com/event/aqua-challenge-fitness-class/2026-05-11/
LOCATION:Fitness Center\, 826 Eighth Street\, Robins AFB\, GA\, 31098\, United States
CATEGORIES:Aquatics,Fitness Classes
ATTACH;FMTTYPE=image/png:https://robinsfss.com/wp-content/uploads/2024/08/aquaclass.png
END:VEVENT
BEGIN:VEVENT
DTSTART;TZID=UTC:20260513T090000
DTEND;TZID=UTC:20260513T100000
DTSTAMP:20260422T094444
CREATED:20240812T170757Z
LAST-MODIFIED:20241223T202435Z
UID:10009402-1778662800-1778666400@robinsfss.com
SUMMARY:Aqua Challenge Fitness Class
DESCRIPTION:Jump right into our aqua classes to build cardiovascular fitness and strength! Our water aerobic classes are easy on your joints\, yet challenging enough to help you reach new levels of fitness. This is a low-impact water aerobics class\, and is suitable to all fitness levels.
URL:https://robinsfss.com/event/aqua-challenge-fitness-class/2026-05-13/
LOCATION:Fitness Center\, 826 Eighth Street\, Robins AFB\, GA\, 31098\, United States
CATEGORIES:Aquatics,Fitness Classes
ATTACH;FMTTYPE=image/png:https://robinsfss.com/wp-content/uploads/2024/08/aquaclass.png
END:VEVENT
BEGIN:VEVENT
DTSTART;TZID=UTC:20260518T090000
DTEND;TZID=UTC:20260518T100000
DTSTAMP:20260422T094444
CREATED:20240812T170757Z
LAST-MODIFIED:20241223T202435Z
UID:10009418-1779094800-1779098400@robinsfss.com
SUMMARY:Aqua Challenge Fitness Class
DESCRIPTION:Jump right into our aqua classes to build cardiovascular fitness and strength! Our water aerobic classes are easy on your joints\, yet challenging enough to help you reach new levels of fitness. This is a low-impact water aerobics class\, and is suitable to all fitness levels.
URL:https://robinsfss.com/event/aqua-challenge-fitness-class/2026-05-18/
LOCATION:Fitness Center\, 826 Eighth Street\, Robins AFB\, GA\, 31098\, United States
CATEGORIES:Aquatics,Fitness Classes
ATTACH;FMTTYPE=image/png:https://robinsfss.com/wp-content/uploads/2024/08/aquaclass.png
END:VEVENT
BEGIN:VEVENT
DTSTART;TZID=UTC:20260520T090000
DTEND;TZID=UTC:20260520T100000
DTSTAMP:20260422T094444
CREATED:20240812T170757Z
LAST-MODIFIED:20241223T202435Z
UID:10009424-1779267600-1779271200@robinsfss.com
SUMMARY:Aqua Challenge Fitness Class
DESCRIPTION:Jump right into our aqua classes to build cardiovascular fitness and strength! Our water aerobic classes are easy on your joints\, yet challenging enough to help you reach new levels of fitness. This is a low-impact water aerobics class\, and is suitable to all fitness levels.
URL:https://robinsfss.com/event/aqua-challenge-fitness-class/2026-05-20/
LOCATION:Fitness Center\, 826 Eighth Street\, Robins AFB\, GA\, 31098\, United States
CATEGORIES:Aquatics,Fitness Classes
ATTACH;FMTTYPE=image/png:https://robinsfss.com/wp-content/uploads/2024/08/aquaclass.png
END:VEVENT
BEGIN:VEVENT
DTSTART;TZID=UTC:20260525T090000
DTEND;TZID=UTC:20260525T100000
DTSTAMP:20260422T094444
CREATED:20240812T170757Z
LAST-MODIFIED:20241223T202435Z
UID:10009430-1779699600-1779703200@robinsfss.com
SUMMARY:Aqua Challenge Fitness Class
DESCRIPTION:Jump right into our aqua classes to build cardiovascular fitness and strength! Our water aerobic classes are easy on your joints\, yet challenging enough to help you reach new levels of fitness. This is a low-impact water aerobics class\, and is suitable to all fitness levels.
URL:https://robinsfss.com/event/aqua-challenge-fitness-class/2026-05-25/
LOCATION:Fitness Center\, 826 Eighth Street\, Robins AFB\, GA\, 31098\, United States
CATEGORIES:Aquatics,Fitness Classes
ATTACH;FMTTYPE=image/png:https://robinsfss.com/wp-content/uploads/2024/08/aquaclass.png
END:VEVENT
BEGIN:VEVENT
DTSTART;TZID=UTC:20260527T090000
DTEND;TZID=UTC:20260527T100000
DTSTAMP:20260422T094444
CREATED:20240812T170757Z
LAST-MODIFIED:20241223T202435Z
UID:10009606-1779872400-1779876000@robinsfss.com
SUMMARY:Aqua Challenge Fitness Class
DESCRIPTION:Jump right into our aqua classes to build cardiovascular fitness and strength! Our water aerobic classes are easy on your joints\, yet challenging enough to help you reach new levels of fitness. This is a low-impact water aerobics class\, and is suitable to all fitness levels.
URL:https://robinsfss.com/event/aqua-challenge-fitness-class/2026-05-27/
LOCATION:Fitness Center\, 826 Eighth Street\, Robins AFB\, GA\, 31098\, United States
CATEGORIES:Aquatics,Fitness Classes
ATTACH;FMTTYPE=image/png:https://robinsfss.com/wp-content/uploads/2024/08/aquaclass.png
END:VEVENT
BEGIN:VEVENT
DTSTART;TZID=UTC:20260601T090000
DTEND;TZID=UTC:20260601T100000
DTSTAMP:20260422T094444
CREATED:20240812T170757Z
LAST-MODIFIED:20241223T202435Z
UID:10009607-1780304400-1780308000@robinsfss.com
SUMMARY:Aqua Challenge Fitness Class
DESCRIPTION:Jump right into our aqua classes to build cardiovascular fitness and strength! Our water aerobic classes are easy on your joints\, yet challenging enough to help you reach new levels of fitness. This is a low-impact water aerobics class\, and is suitable to all fitness levels.
URL:https://robinsfss.com/event/aqua-challenge-fitness-class/2026-06-01/
LOCATION:Fitness Center\, 826 Eighth Street\, Robins AFB\, GA\, 31098\, United States
CATEGORIES:Aquatics,Fitness Classes
ATTACH;FMTTYPE=image/png:https://robinsfss.com/wp-content/uploads/2024/08/aquaclass.png
END:VEVENT
BEGIN:VEVENT
DTSTART;TZID=UTC:20260603T090000
DTEND;TZID=UTC:20260603T100000
DTSTAMP:20260422T094444
CREATED:20240812T170757Z
LAST-MODIFIED:20241223T202435Z
UID:10009608-1780477200-1780480800@robinsfss.com
SUMMARY:Aqua Challenge Fitness Class
DESCRIPTION:Jump right into our aqua classes to build cardiovascular fitness and strength! Our water aerobic classes are easy on your joints\, yet challenging enough to help you reach new levels of fitness. This is a low-impact water aerobics class\, and is suitable to all fitness levels.
URL:https://robinsfss.com/event/aqua-challenge-fitness-class/2026-06-03/
LOCATION:Fitness Center\, 826 Eighth Street\, Robins AFB\, GA\, 31098\, United States
CATEGORIES:Aquatics,Fitness Classes
ATTACH;FMTTYPE=image/png:https://robinsfss.com/wp-content/uploads/2024/08/aquaclass.png
END:VEVENT
BEGIN:VEVENT
DTSTART;TZID=UTC:20260608T090000
DTEND;TZID=UTC:20260608T100000
DTSTAMP:20260422T094444
CREATED:20240812T170757Z
LAST-MODIFIED:20241223T202435Z
UID:10009609-1780909200-1780912800@robinsfss.com
SUMMARY:Aqua Challenge Fitness Class
DESCRIPTION:Jump right into our aqua classes to build cardiovascular fitness and strength! Our water aerobic classes are easy on your joints\, yet challenging enough to help you reach new levels of fitness. This is a low-impact water aerobics class\, and is suitable to all fitness levels.
URL:https://robinsfss.com/event/aqua-challenge-fitness-class/2026-06-08/
LOCATION:Fitness Center\, 826 Eighth Street\, Robins AFB\, GA\, 31098\, United States
CATEGORIES:Aquatics,Fitness Classes
ATTACH;FMTTYPE=image/png:https://robinsfss.com/wp-content/uploads/2024/08/aquaclass.png
END:VEVENT
BEGIN:VEVENT
DTSTART;TZID=UTC:20260610T090000
DTEND;TZID=UTC:20260610T100000
DTSTAMP:20260422T094444
CREATED:20240812T170757Z
LAST-MODIFIED:20241223T202435Z
UID:10009610-1781082000-1781085600@robinsfss.com
SUMMARY:Aqua Challenge Fitness Class
DESCRIPTION:Jump right into our aqua classes to build cardiovascular fitness and strength! Our water aerobic classes are easy on your joints\, yet challenging enough to help you reach new levels of fitness. This is a low-impact water aerobics class\, and is suitable to all fitness levels.
URL:https://robinsfss.com/event/aqua-challenge-fitness-class/2026-06-10/
LOCATION:Fitness Center\, 826 Eighth Street\, Robins AFB\, GA\, 31098\, United States
CATEGORIES:Aquatics,Fitness Classes
ATTACH;FMTTYPE=image/png:https://robinsfss.com/wp-content/uploads/2024/08/aquaclass.png
END:VEVENT
BEGIN:VEVENT
DTSTART;TZID=UTC:20260615T090000
DTEND;TZID=UTC:20260615T100000
DTSTAMP:20260422T094444
CREATED:20240812T170757Z
LAST-MODIFIED:20241223T202435Z
UID:10009611-1781514000-1781517600@robinsfss.com
SUMMARY:Aqua Challenge Fitness Class
DESCRIPTION:Jump right into our aqua classes to build cardiovascular fitness and strength! Our water aerobic classes are easy on your joints\, yet challenging enough to help you reach new levels of fitness. This is a low-impact water aerobics class\, and is suitable to all fitness levels.
URL:https://robinsfss.com/event/aqua-challenge-fitness-class/2026-06-15/
LOCATION:Fitness Center\, 826 Eighth Street\, Robins AFB\, GA\, 31098\, United States
CATEGORIES:Aquatics,Fitness Classes
ATTACH;FMTTYPE=image/png:https://robinsfss.com/wp-content/uploads/2024/08/aquaclass.png
END:VEVENT
BEGIN:VEVENT
DTSTART;TZID=UTC:20260617T090000
DTEND;TZID=UTC:20260617T100000
DTSTAMP:20260422T094444
CREATED:20240812T170757Z
LAST-MODIFIED:20241223T202435Z
UID:10009612-1781686800-1781690400@robinsfss.com
SUMMARY:Aqua Challenge Fitness Class
DESCRIPTION:Jump right into our aqua classes to build cardiovascular fitness and strength! Our water aerobic classes are easy on your joints\, yet challenging enough to help you reach new levels of fitness. This is a low-impact water aerobics class\, and is suitable to all fitness levels.
URL:https://robinsfss.com/event/aqua-challenge-fitness-class/2026-06-17/
LOCATION:Fitness Center\, 826 Eighth Street\, Robins AFB\, GA\, 31098\, United States
CATEGORIES:Aquatics,Fitness Classes
ATTACH;FMTTYPE=image/png:https://robinsfss.com/wp-content/uploads/2024/08/aquaclass.png
END:VEVENT
BEGIN:VEVENT
DTSTART;TZID=UTC:20260622T090000
DTEND;TZID=UTC:20260622T100000
DTSTAMP:20260422T094444
CREATED:20240812T170757Z
LAST-MODIFIED:20241223T202435Z
UID:10009613-1782118800-1782122400@robinsfss.com
SUMMARY:Aqua Challenge Fitness Class
DESCRIPTION:Jump right into our aqua classes to build cardiovascular fitness and strength! Our water aerobic classes are easy on your joints\, yet challenging enough to help you reach new levels of fitness. This is a low-impact water aerobics class\, and is suitable to all fitness levels.
URL:https://robinsfss.com/event/aqua-challenge-fitness-class/2026-06-22/
LOCATION:Fitness Center\, 826 Eighth Street\, Robins AFB\, GA\, 31098\, United States
CATEGORIES:Aquatics,Fitness Classes
ATTACH;FMTTYPE=image/png:https://robinsfss.com/wp-content/uploads/2024/08/aquaclass.png
END:VEVENT
BEGIN:VEVENT
DTSTART;TZID=UTC:20260624T090000
DTEND;TZID=UTC:20260624T100000
DTSTAMP:20260422T094444
CREATED:20240812T170757Z
LAST-MODIFIED:20241223T202435Z
UID:10009614-1782291600-1782295200@robinsfss.com
SUMMARY:Aqua Challenge Fitness Class
DESCRIPTION:Jump right into our aqua classes to build cardiovascular fitness and strength! Our water aerobic classes are easy on your joints\, yet challenging enough to help you reach new levels of fitness. This is a low-impact water aerobics class\, and is suitable to all fitness levels.
URL:https://robinsfss.com/event/aqua-challenge-fitness-class/2026-06-24/
LOCATION:Fitness Center\, 826 Eighth Street\, Robins AFB\, GA\, 31098\, United States
CATEGORIES:Aquatics,Fitness Classes
ATTACH;FMTTYPE=image/png:https://robinsfss.com/wp-content/uploads/2024/08/aquaclass.png
END:VEVENT
BEGIN:VEVENT
DTSTART;TZID=UTC:20260629T090000
DTEND;TZID=UTC:20260629T100000
DTSTAMP:20260422T094444
CREATED:20240812T170757Z
LAST-MODIFIED:20241223T202435Z
UID:10009615-1782723600-1782727200@robinsfss.com
SUMMARY:Aqua Challenge Fitness Class
DESCRIPTION:Jump right into our aqua classes to build cardiovascular fitness and strength! Our water aerobic classes are easy on your joints\, yet challenging enough to help you reach new levels of fitness. This is a low-impact water aerobics class\, and is suitable to all fitness levels.
URL:https://robinsfss.com/event/aqua-challenge-fitness-class/2026-06-29/
LOCATION:Fitness Center\, 826 Eighth Street\, Robins AFB\, GA\, 31098\, United States
CATEGORIES:Aquatics,Fitness Classes
ATTACH;FMTTYPE=image/png:https://robinsfss.com/wp-content/uploads/2024/08/aquaclass.png
END:VEVENT
BEGIN:VEVENT
DTSTART;TZID=UTC:20260701T090000
DTEND;TZID=UTC:20260701T100000
DTSTAMP:20260422T094444
CREATED:20240812T170757Z
LAST-MODIFIED:20241223T202435Z
UID:10009616-1782896400-1782900000@robinsfss.com
SUMMARY:Aqua Challenge Fitness Class
DESCRIPTION:Jump right into our aqua classes to build cardiovascular fitness and strength! Our water aerobic classes are easy on your joints\, yet challenging enough to help you reach new levels of fitness. This is a low-impact water aerobics class\, and is suitable to all fitness levels.
URL:https://robinsfss.com/event/aqua-challenge-fitness-class/2026-07-01/
LOCATION:Fitness Center\, 826 Eighth Street\, Robins AFB\, GA\, 31098\, United States
CATEGORIES:Aquatics,Fitness Classes
ATTACH;FMTTYPE=image/png:https://robinsfss.com/wp-content/uploads/2024/08/aquaclass.png
END:VEVENT
BEGIN:VEVENT
DTSTART;TZID=UTC:20260706T090000
DTEND;TZID=UTC:20260706T100000
DTSTAMP:20260422T094444
CREATED:20240812T170757Z
LAST-MODIFIED:20241223T202435Z
UID:10009617-1783328400-1783332000@robinsfss.com
SUMMARY:Aqua Challenge Fitness Class
DESCRIPTION:Jump right into our aqua classes to build cardiovascular fitness and strength! Our water aerobic classes are easy on your joints\, yet challenging enough to help you reach new levels of fitness. This is a low-impact water aerobics class\, and is suitable to all fitness levels.
URL:https://robinsfss.com/event/aqua-challenge-fitness-class/2026-07-06/
LOCATION:Fitness Center\, 826 Eighth Street\, Robins AFB\, GA\, 31098\, United States
CATEGORIES:Aquatics,Fitness Classes
ATTACH;FMTTYPE=image/png:https://robinsfss.com/wp-content/uploads/2024/08/aquaclass.png
END:VEVENT
BEGIN:VEVENT
DTSTART;TZID=UTC:20260708T090000
DTEND;TZID=UTC:20260708T100000
DTSTAMP:20260422T094444
CREATED:20240812T170757Z
LAST-MODIFIED:20241223T202435Z
UID:10009618-1783501200-1783504800@robinsfss.com
SUMMARY:Aqua Challenge Fitness Class
DESCRIPTION:Jump right into our aqua classes to build cardiovascular fitness and strength! Our water aerobic classes are easy on your joints\, yet challenging enough to help you reach new levels of fitness. This is a low-impact water aerobics class\, and is suitable to all fitness levels.
URL:https://robinsfss.com/event/aqua-challenge-fitness-class/2026-07-08/
LOCATION:Fitness Center\, 826 Eighth Street\, Robins AFB\, GA\, 31098\, United States
CATEGORIES:Aquatics,Fitness Classes
ATTACH;FMTTYPE=image/png:https://robinsfss.com/wp-content/uploads/2024/08/aquaclass.png
END:VEVENT
BEGIN:VEVENT
DTSTART;TZID=UTC:20260713T090000
DTEND;TZID=UTC:20260713T100000
DTSTAMP:20260422T094444
CREATED:20240812T170757Z
LAST-MODIFIED:20241223T202435Z
UID:10009619-1783933200-1783936800@robinsfss.com
SUMMARY:Aqua Challenge Fitness Class
DESCRIPTION:Jump right into our aqua classes to build cardiovascular fitness and strength! Our water aerobic classes are easy on your joints\, yet challenging enough to help you reach new levels of fitness. This is a low-impact water aerobics class\, and is suitable to all fitness levels.
URL:https://robinsfss.com/event/aqua-challenge-fitness-class/2026-07-13/
LOCATION:Fitness Center\, 826 Eighth Street\, Robins AFB\, GA\, 31098\, United States
CATEGORIES:Aquatics,Fitness Classes
ATTACH;FMTTYPE=image/png:https://robinsfss.com/wp-content/uploads/2024/08/aquaclass.png
END:VEVENT
BEGIN:VEVENT
DTSTART;TZID=UTC:20260715T090000
DTEND;TZID=UTC:20260715T100000
DTSTAMP:20260422T094444
CREATED:20240812T170757Z
LAST-MODIFIED:20241223T202435Z
UID:10009620-1784106000-1784109600@robinsfss.com
SUMMARY:Aqua Challenge Fitness Class
DESCRIPTION:Jump right into our aqua classes to build cardiovascular fitness and strength! Our water aerobic classes are easy on your joints\, yet challenging enough to help you reach new levels of fitness. This is a low-impact water aerobics class\, and is suitable to all fitness levels.
URL:https://robinsfss.com/event/aqua-challenge-fitness-class/2026-07-15/
LOCATION:Fitness Center\, 826 Eighth Street\, Robins AFB\, GA\, 31098\, United States
CATEGORIES:Aquatics,Fitness Classes
ATTACH;FMTTYPE=image/png:https://robinsfss.com/wp-content/uploads/2024/08/aquaclass.png
END:VEVENT
BEGIN:VEVENT
DTSTART;TZID=UTC:20260720T090000
DTEND;TZID=UTC:20260720T100000
DTSTAMP:20260422T094444
CREATED:20240812T170757Z
LAST-MODIFIED:20241223T202435Z
UID:10009621-1784538000-1784541600@robinsfss.com
SUMMARY:Aqua Challenge Fitness Class
DESCRIPTION:Jump right into our aqua classes to build cardiovascular fitness and strength! Our water aerobic classes are easy on your joints\, yet challenging enough to help you reach new levels of fitness. This is a low-impact water aerobics class\, and is suitable to all fitness levels.
URL:https://robinsfss.com/event/aqua-challenge-fitness-class/2026-07-20/
LOCATION:Fitness Center\, 826 Eighth Street\, Robins AFB\, GA\, 31098\, United States
CATEGORIES:Aquatics,Fitness Classes
ATTACH;FMTTYPE=image/png:https://robinsfss.com/wp-content/uploads/2024/08/aquaclass.png
END:VEVENT
BEGIN:VEVENT
DTSTART;TZID=UTC:20260722T090000
DTEND;TZID=UTC:20260722T100000
DTSTAMP:20260422T094444
CREATED:20240812T170757Z
LAST-MODIFIED:20241223T202435Z
UID:10009622-1784710800-1784714400@robinsfss.com
SUMMARY:Aqua Challenge Fitness Class
DESCRIPTION:Jump right into our aqua classes to build cardiovascular fitness and strength! Our water aerobic classes are easy on your joints\, yet challenging enough to help you reach new levels of fitness. This is a low-impact water aerobics class\, and is suitable to all fitness levels.
URL:https://robinsfss.com/event/aqua-challenge-fitness-class/2026-07-22/
LOCATION:Fitness Center\, 826 Eighth Street\, Robins AFB\, GA\, 31098\, United States
CATEGORIES:Aquatics,Fitness Classes
ATTACH;FMTTYPE=image/png:https://robinsfss.com/wp-content/uploads/2024/08/aquaclass.png
END:VEVENT
BEGIN:VEVENT
DTSTART;TZID=UTC:20260727T090000
DTEND;TZID=UTC:20260727T100000
DTSTAMP:20260422T094444
CREATED:20240812T170757Z
LAST-MODIFIED:20241223T202435Z
UID:10009623-1785142800-1785146400@robinsfss.com
SUMMARY:Aqua Challenge Fitness Class
DESCRIPTION:Jump right into our aqua classes to build cardiovascular fitness and strength! Our water aerobic classes are easy on your joints\, yet challenging enough to help you reach new levels of fitness. This is a low-impact water aerobics class\, and is suitable to all fitness levels.
URL:https://robinsfss.com/event/aqua-challenge-fitness-class/2026-07-27/
LOCATION:Fitness Center\, 826 Eighth Street\, Robins AFB\, GA\, 31098\, United States
CATEGORIES:Aquatics,Fitness Classes
ATTACH;FMTTYPE=image/png:https://robinsfss.com/wp-content/uploads/2024/08/aquaclass.png
END:VEVENT
BEGIN:VEVENT
DTSTART;TZID=UTC:20260729T090000
DTEND;TZID=UTC:20260729T100000
DTSTAMP:20260422T094444
CREATED:20240812T170757Z
LAST-MODIFIED:20241223T202435Z
UID:10009624-1785315600-1785319200@robinsfss.com
SUMMARY:Aqua Challenge Fitness Class
DESCRIPTION:Jump right into our aqua classes to build cardiovascular fitness and strength! Our water aerobic classes are easy on your joints\, yet challenging enough to help you reach new levels of fitness. This is a low-impact water aerobics class\, and is suitable to all fitness levels.
URL:https://robinsfss.com/event/aqua-challenge-fitness-class/2026-07-29/
LOCATION:Fitness Center\, 826 Eighth Street\, Robins AFB\, GA\, 31098\, United States
CATEGORIES:Aquatics,Fitness Classes
ATTACH;FMTTYPE=image/png:https://robinsfss.com/wp-content/uploads/2024/08/aquaclass.png
END:VEVENT
BEGIN:VEVENT
DTSTART;TZID=UTC:20260803T090000
DTEND;TZID=UTC:20260803T100000
DTSTAMP:20260422T094444
CREATED:20240812T170757Z
LAST-MODIFIED:20241223T202435Z
UID:10009625-1785747600-1785751200@robinsfss.com
SUMMARY:Aqua Challenge Fitness Class
DESCRIPTION:Jump right into our aqua classes to build cardiovascular fitness and strength! Our water aerobic classes are easy on your joints\, yet challenging enough to help you reach new levels of fitness. This is a low-impact water aerobics class\, and is suitable to all fitness levels.
URL:https://robinsfss.com/event/aqua-challenge-fitness-class/2026-08-03/
LOCATION:Fitness Center\, 826 Eighth Street\, Robins AFB\, GA\, 31098\, United States
CATEGORIES:Aquatics,Fitness Classes
ATTACH;FMTTYPE=image/png:https://robinsfss.com/wp-content/uploads/2024/08/aquaclass.png
END:VEVENT
END:VCALENDAR