BEGIN:VCALENDAR
VERSION:2.0
PRODID:-//Robins AFB - ECPv6.15.20//NONSGML v1.0//EN
CALSCALE:GREGORIAN
METHOD:PUBLISH
X-WR-CALNAME:Robins AFB
X-ORIGINAL-URL:https://robinsfss.com
X-WR-CALDESC:Events for Robins AFB
REFRESH-INTERVAL;VALUE=DURATION:PT1H
X-Robots-Tag:noindex
X-PUBLISHED-TTL:PT1H
BEGIN:VTIMEZONE
TZID:UTC
BEGIN:STANDARD
TZOFFSETFROM:+0000
TZOFFSETTO:+0000
TZNAME:UTC
DTSTART:20250101T000000
END:STANDARD
END:VTIMEZONE
BEGIN:VEVENT
DTSTART;TZID=UTC:20260422T160000
DTEND;TZID=UTC:20260422T170000
DTSTAMP:20260422T094450
CREATED:20240812T175447Z
LAST-MODIFIED:20240918T042403Z
UID:10009370-1776873600-1776877200@robinsfss.com
SUMMARY:Spin Fitness Class
DESCRIPTION:Indoor cycling exposing participants to a variety of training styles and energy zones to improve health and fitness. Be ready for the ride of your life as the instructor has you sprint\, climb hills\, and other drills to simulate outdoor riding!
URL:https://robinsfss.com/event/spin-fitness-class/2026-04-22/
LOCATION:Fitness Center\, 826 Eighth Street\, Robins AFB\, GA\, 31098\, United States
CATEGORIES:Fitness Classes
ATTACH;FMTTYPE=image/png:https://robinsfss.com/wp-content/uploads/2024/08/spintues.png
END:VEVENT
BEGIN:VEVENT
DTSTART;TZID=UTC:20260424T113000
DTEND;TZID=UTC:20260424T121500
DTSTAMP:20260422T094450
CREATED:20250224T190732Z
LAST-MODIFIED:20250224T190732Z
UID:10009587-1777030200-1777032900@robinsfss.com
SUMMARY:Cycling Fitness Class
DESCRIPTION:A 45 minute challenging and exhilarating high-intensity indoor cycling class designed to strengthen your mind\, body\, and soul by building cardio and muscle endurance.
URL:https://robinsfss.com/event/cycling-fitness-class/2026-04-24/
LOCATION:Fitness Center\, 826 Eighth Street\, Robins AFB\, GA\, 31098\, United States
CATEGORIES:Fitness Classes
ATTACH;FMTTYPE=image/png:https://robinsfss.com/wp-content/uploads/2024/08/spintues.png
END:VEVENT
BEGIN:VEVENT
DTSTART;TZID=UTC:20260427T160000
DTEND;TZID=UTC:20260427T170000
DTSTAMP:20260422T094450
CREATED:20240812T175447Z
LAST-MODIFIED:20240918T042403Z
UID:10009379-1777305600-1777309200@robinsfss.com
SUMMARY:Spin Fitness Class
DESCRIPTION:Indoor cycling exposing participants to a variety of training styles and energy zones to improve health and fitness. Be ready for the ride of your life as the instructor has you sprint\, climb hills\, and other drills to simulate outdoor riding!
URL:https://robinsfss.com/event/spin-fitness-class/2026-04-27/
LOCATION:Fitness Center\, 826 Eighth Street\, Robins AFB\, GA\, 31098\, United States
CATEGORIES:Fitness Classes
ATTACH;FMTTYPE=image/png:https://robinsfss.com/wp-content/uploads/2024/08/spintues.png
END:VEVENT
BEGIN:VEVENT
DTSTART;TZID=UTC:20260429T160000
DTEND;TZID=UTC:20260429T170000
DTSTAMP:20260422T094450
CREATED:20240812T175447Z
LAST-MODIFIED:20240918T042403Z
UID:10009385-1777478400-1777482000@robinsfss.com
SUMMARY:Spin Fitness Class
DESCRIPTION:Indoor cycling exposing participants to a variety of training styles and energy zones to improve health and fitness. Be ready for the ride of your life as the instructor has you sprint\, climb hills\, and other drills to simulate outdoor riding!
URL:https://robinsfss.com/event/spin-fitness-class/2026-04-29/
LOCATION:Fitness Center\, 826 Eighth Street\, Robins AFB\, GA\, 31098\, United States
CATEGORIES:Fitness Classes
ATTACH;FMTTYPE=image/png:https://robinsfss.com/wp-content/uploads/2024/08/spintues.png
END:VEVENT
BEGIN:VEVENT
DTSTART;TZID=UTC:20260501T113000
DTEND;TZID=UTC:20260501T121500
DTSTAMP:20260422T094450
CREATED:20250224T190732Z
LAST-MODIFIED:20250224T190732Z
UID:10009588-1777635000-1777637700@robinsfss.com
SUMMARY:Cycling Fitness Class
DESCRIPTION:A 45 minute challenging and exhilarating high-intensity indoor cycling class designed to strengthen your mind\, body\, and soul by building cardio and muscle endurance.
URL:https://robinsfss.com/event/cycling-fitness-class/2026-05-01/
LOCATION:Fitness Center\, 826 Eighth Street\, Robins AFB\, GA\, 31098\, United States
CATEGORIES:Fitness Classes
ATTACH;FMTTYPE=image/png:https://robinsfss.com/wp-content/uploads/2024/08/spintues.png
END:VEVENT
BEGIN:VEVENT
DTSTART;TZID=UTC:20260504T160000
DTEND;TZID=UTC:20260504T170000
DTSTAMP:20260422T094450
CREATED:20240812T175447Z
LAST-MODIFIED:20240918T042403Z
UID:10009389-1777910400-1777914000@robinsfss.com
SUMMARY:Spin Fitness Class
DESCRIPTION:Indoor cycling exposing participants to a variety of training styles and energy zones to improve health and fitness. Be ready for the ride of your life as the instructor has you sprint\, climb hills\, and other drills to simulate outdoor riding!
URL:https://robinsfss.com/event/spin-fitness-class/2026-05-04/
LOCATION:Fitness Center\, 826 Eighth Street\, Robins AFB\, GA\, 31098\, United States
CATEGORIES:Fitness Classes
ATTACH;FMTTYPE=image/png:https://robinsfss.com/wp-content/uploads/2024/08/spintues.png
END:VEVENT
BEGIN:VEVENT
DTSTART;TZID=UTC:20260506T160000
DTEND;TZID=UTC:20260506T170000
DTSTAMP:20260422T094450
CREATED:20240812T175447Z
LAST-MODIFIED:20240918T042403Z
UID:10009394-1778083200-1778086800@robinsfss.com
SUMMARY:Spin Fitness Class
DESCRIPTION:Indoor cycling exposing participants to a variety of training styles and energy zones to improve health and fitness. Be ready for the ride of your life as the instructor has you sprint\, climb hills\, and other drills to simulate outdoor riding!
URL:https://robinsfss.com/event/spin-fitness-class/2026-05-06/
LOCATION:Fitness Center\, 826 Eighth Street\, Robins AFB\, GA\, 31098\, United States
CATEGORIES:Fitness Classes
ATTACH;FMTTYPE=image/png:https://robinsfss.com/wp-content/uploads/2024/08/spintues.png
END:VEVENT
BEGIN:VEVENT
DTSTART;TZID=UTC:20260508T113000
DTEND;TZID=UTC:20260508T121500
DTSTAMP:20260422T094450
CREATED:20250224T190732Z
LAST-MODIFIED:20250224T190732Z
UID:10009589-1778239800-1778242500@robinsfss.com
SUMMARY:Cycling Fitness Class
DESCRIPTION:A 45 minute challenging and exhilarating high-intensity indoor cycling class designed to strengthen your mind\, body\, and soul by building cardio and muscle endurance.
URL:https://robinsfss.com/event/cycling-fitness-class/2026-05-08/
LOCATION:Fitness Center\, 826 Eighth Street\, Robins AFB\, GA\, 31098\, United States
CATEGORIES:Fitness Classes
ATTACH;FMTTYPE=image/png:https://robinsfss.com/wp-content/uploads/2024/08/spintues.png
END:VEVENT
BEGIN:VEVENT
DTSTART;TZID=UTC:20260511T160000
DTEND;TZID=UTC:20260511T170000
DTSTAMP:20260422T094450
CREATED:20240812T175447Z
LAST-MODIFIED:20240918T042403Z
UID:10009403-1778515200-1778518800@robinsfss.com
SUMMARY:Spin Fitness Class
DESCRIPTION:Indoor cycling exposing participants to a variety of training styles and energy zones to improve health and fitness. Be ready for the ride of your life as the instructor has you sprint\, climb hills\, and other drills to simulate outdoor riding!
URL:https://robinsfss.com/event/spin-fitness-class/2026-05-11/
LOCATION:Fitness Center\, 826 Eighth Street\, Robins AFB\, GA\, 31098\, United States
CATEGORIES:Fitness Classes
ATTACH;FMTTYPE=image/png:https://robinsfss.com/wp-content/uploads/2024/08/spintues.png
END:VEVENT
BEGIN:VEVENT
DTSTART;TZID=UTC:20260513T160000
DTEND;TZID=UTC:20260513T170000
DTSTAMP:20260422T094450
CREATED:20240812T175447Z
LAST-MODIFIED:20240918T042403Z
UID:10009404-1778688000-1778691600@robinsfss.com
SUMMARY:Spin Fitness Class
DESCRIPTION:Indoor cycling exposing participants to a variety of training styles and energy zones to improve health and fitness. Be ready for the ride of your life as the instructor has you sprint\, climb hills\, and other drills to simulate outdoor riding!
URL:https://robinsfss.com/event/spin-fitness-class/2026-05-13/
LOCATION:Fitness Center\, 826 Eighth Street\, Robins AFB\, GA\, 31098\, United States
CATEGORIES:Fitness Classes
ATTACH;FMTTYPE=image/png:https://robinsfss.com/wp-content/uploads/2024/08/spintues.png
END:VEVENT
BEGIN:VEVENT
DTSTART;TZID=UTC:20260515T113000
DTEND;TZID=UTC:20260515T121500
DTSTAMP:20260422T094450
CREATED:20250224T190732Z
LAST-MODIFIED:20250224T190732Z
UID:10009590-1778844600-1778847300@robinsfss.com
SUMMARY:Cycling Fitness Class
DESCRIPTION:A 45 minute challenging and exhilarating high-intensity indoor cycling class designed to strengthen your mind\, body\, and soul by building cardio and muscle endurance.
URL:https://robinsfss.com/event/cycling-fitness-class/2026-05-15/
LOCATION:Fitness Center\, 826 Eighth Street\, Robins AFB\, GA\, 31098\, United States
CATEGORIES:Fitness Classes
ATTACH;FMTTYPE=image/png:https://robinsfss.com/wp-content/uploads/2024/08/spintues.png
END:VEVENT
BEGIN:VEVENT
DTSTART;TZID=UTC:20260518T160000
DTEND;TZID=UTC:20260518T170000
DTSTAMP:20260422T094450
CREATED:20240812T175447Z
LAST-MODIFIED:20240918T042403Z
UID:10009414-1779120000-1779123600@robinsfss.com
SUMMARY:Spin Fitness Class
DESCRIPTION:Indoor cycling exposing participants to a variety of training styles and energy zones to improve health and fitness. Be ready for the ride of your life as the instructor has you sprint\, climb hills\, and other drills to simulate outdoor riding!
URL:https://robinsfss.com/event/spin-fitness-class/2026-05-18/
LOCATION:Fitness Center\, 826 Eighth Street\, Robins AFB\, GA\, 31098\, United States
CATEGORIES:Fitness Classes
ATTACH;FMTTYPE=image/png:https://robinsfss.com/wp-content/uploads/2024/08/spintues.png
END:VEVENT
BEGIN:VEVENT
DTSTART;TZID=UTC:20260520T160000
DTEND;TZID=UTC:20260520T170000
DTSTAMP:20260422T094450
CREATED:20240812T175447Z
LAST-MODIFIED:20240918T042403Z
UID:10009419-1779292800-1779296400@robinsfss.com
SUMMARY:Spin Fitness Class
DESCRIPTION:Indoor cycling exposing participants to a variety of training styles and energy zones to improve health and fitness. Be ready for the ride of your life as the instructor has you sprint\, climb hills\, and other drills to simulate outdoor riding!
URL:https://robinsfss.com/event/spin-fitness-class/2026-05-20/
LOCATION:Fitness Center\, 826 Eighth Street\, Robins AFB\, GA\, 31098\, United States
CATEGORIES:Fitness Classes
ATTACH;FMTTYPE=image/png:https://robinsfss.com/wp-content/uploads/2024/08/spintues.png
END:VEVENT
BEGIN:VEVENT
DTSTART;TZID=UTC:20260522T113000
DTEND;TZID=UTC:20260522T121500
DTSTAMP:20260422T094450
CREATED:20250224T190732Z
LAST-MODIFIED:20250224T190732Z
UID:10009591-1779449400-1779452100@robinsfss.com
SUMMARY:Cycling Fitness Class
DESCRIPTION:A 45 minute challenging and exhilarating high-intensity indoor cycling class designed to strengthen your mind\, body\, and soul by building cardio and muscle endurance.
URL:https://robinsfss.com/event/cycling-fitness-class/2026-05-22/
LOCATION:Fitness Center\, 826 Eighth Street\, Robins AFB\, GA\, 31098\, United States
CATEGORIES:Fitness Classes
ATTACH;FMTTYPE=image/png:https://robinsfss.com/wp-content/uploads/2024/08/spintues.png
END:VEVENT
BEGIN:VEVENT
DTSTART;TZID=UTC:20260525T160000
DTEND;TZID=UTC:20260525T170000
DTSTAMP:20260422T094450
CREATED:20240812T175447Z
LAST-MODIFIED:20240918T042403Z
UID:10009425-1779724800-1779728400@robinsfss.com
SUMMARY:Spin Fitness Class
DESCRIPTION:Indoor cycling exposing participants to a variety of training styles and energy zones to improve health and fitness. Be ready for the ride of your life as the instructor has you sprint\, climb hills\, and other drills to simulate outdoor riding!
URL:https://robinsfss.com/event/spin-fitness-class/2026-05-25/
LOCATION:Fitness Center\, 826 Eighth Street\, Robins AFB\, GA\, 31098\, United States
CATEGORIES:Fitness Classes
ATTACH;FMTTYPE=image/png:https://robinsfss.com/wp-content/uploads/2024/08/spintues.png
END:VEVENT
BEGIN:VEVENT
DTSTART;TZID=UTC:20260527T160000
DTEND;TZID=UTC:20260527T170000
DTSTAMP:20260422T094450
CREATED:20240812T175447Z
LAST-MODIFIED:20240918T042403Z
UID:10009431-1779897600-1779901200@robinsfss.com
SUMMARY:Spin Fitness Class
DESCRIPTION:Indoor cycling exposing participants to a variety of training styles and energy zones to improve health and fitness. Be ready for the ride of your life as the instructor has you sprint\, climb hills\, and other drills to simulate outdoor riding!
URL:https://robinsfss.com/event/spin-fitness-class/2026-05-27/
LOCATION:Fitness Center\, 826 Eighth Street\, Robins AFB\, GA\, 31098\, United States
CATEGORIES:Fitness Classes
ATTACH;FMTTYPE=image/png:https://robinsfss.com/wp-content/uploads/2024/08/spintues.png
END:VEVENT
BEGIN:VEVENT
DTSTART;TZID=UTC:20260529T113000
DTEND;TZID=UTC:20260529T121500
DTSTAMP:20260422T094450
CREATED:20250224T190732Z
LAST-MODIFIED:20250224T190732Z
UID:10009592-1780054200-1780056900@robinsfss.com
SUMMARY:Cycling Fitness Class
DESCRIPTION:A 45 minute challenging and exhilarating high-intensity indoor cycling class designed to strengthen your mind\, body\, and soul by building cardio and muscle endurance.
URL:https://robinsfss.com/event/cycling-fitness-class/2026-05-29/
LOCATION:Fitness Center\, 826 Eighth Street\, Robins AFB\, GA\, 31098\, United States
CATEGORIES:Fitness Classes
ATTACH;FMTTYPE=image/png:https://robinsfss.com/wp-content/uploads/2024/08/spintues.png
END:VEVENT
BEGIN:VEVENT
DTSTART;TZID=UTC:20260601T160000
DTEND;TZID=UTC:20260601T170000
DTSTAMP:20260422T094450
CREATED:20240812T175447Z
LAST-MODIFIED:20240918T042403Z
UID:10009432-1780329600-1780333200@robinsfss.com
SUMMARY:Spin Fitness Class
DESCRIPTION:Indoor cycling exposing participants to a variety of training styles and energy zones to improve health and fitness. Be ready for the ride of your life as the instructor has you sprint\, climb hills\, and other drills to simulate outdoor riding!
URL:https://robinsfss.com/event/spin-fitness-class/2026-06-01/
LOCATION:Fitness Center\, 826 Eighth Street\, Robins AFB\, GA\, 31098\, United States
CATEGORIES:Fitness Classes
ATTACH;FMTTYPE=image/png:https://robinsfss.com/wp-content/uploads/2024/08/spintues.png
END:VEVENT
BEGIN:VEVENT
DTSTART;TZID=UTC:20260603T160000
DTEND;TZID=UTC:20260603T170000
DTSTAMP:20260422T094450
CREATED:20240812T175447Z
LAST-MODIFIED:20240918T042403Z
UID:10009433-1780502400-1780506000@robinsfss.com
SUMMARY:Spin Fitness Class
DESCRIPTION:Indoor cycling exposing participants to a variety of training styles and energy zones to improve health and fitness. Be ready for the ride of your life as the instructor has you sprint\, climb hills\, and other drills to simulate outdoor riding!
URL:https://robinsfss.com/event/spin-fitness-class/2026-06-03/
LOCATION:Fitness Center\, 826 Eighth Street\, Robins AFB\, GA\, 31098\, United States
CATEGORIES:Fitness Classes
ATTACH;FMTTYPE=image/png:https://robinsfss.com/wp-content/uploads/2024/08/spintues.png
END:VEVENT
BEGIN:VEVENT
DTSTART;TZID=UTC:20260605T113000
DTEND;TZID=UTC:20260605T121500
DTSTAMP:20260422T094450
CREATED:20250224T190732Z
LAST-MODIFIED:20250224T190732Z
UID:10009593-1780659000-1780661700@robinsfss.com
SUMMARY:Cycling Fitness Class
DESCRIPTION:A 45 minute challenging and exhilarating high-intensity indoor cycling class designed to strengthen your mind\, body\, and soul by building cardio and muscle endurance.
URL:https://robinsfss.com/event/cycling-fitness-class/2026-06-05/
LOCATION:Fitness Center\, 826 Eighth Street\, Robins AFB\, GA\, 31098\, United States
CATEGORIES:Fitness Classes
ATTACH;FMTTYPE=image/png:https://robinsfss.com/wp-content/uploads/2024/08/spintues.png
END:VEVENT
BEGIN:VEVENT
DTSTART;TZID=UTC:20260608T160000
DTEND;TZID=UTC:20260608T170000
DTSTAMP:20260422T094450
CREATED:20240812T175447Z
LAST-MODIFIED:20240918T042403Z
UID:10009434-1780934400-1780938000@robinsfss.com
SUMMARY:Spin Fitness Class
DESCRIPTION:Indoor cycling exposing participants to a variety of training styles and energy zones to improve health and fitness. Be ready for the ride of your life as the instructor has you sprint\, climb hills\, and other drills to simulate outdoor riding!
URL:https://robinsfss.com/event/spin-fitness-class/2026-06-08/
LOCATION:Fitness Center\, 826 Eighth Street\, Robins AFB\, GA\, 31098\, United States
CATEGORIES:Fitness Classes
ATTACH;FMTTYPE=image/png:https://robinsfss.com/wp-content/uploads/2024/08/spintues.png
END:VEVENT
BEGIN:VEVENT
DTSTART;TZID=UTC:20260610T160000
DTEND;TZID=UTC:20260610T170000
DTSTAMP:20260422T094450
CREATED:20240812T175447Z
LAST-MODIFIED:20240918T042403Z
UID:10009435-1781107200-1781110800@robinsfss.com
SUMMARY:Spin Fitness Class
DESCRIPTION:Indoor cycling exposing participants to a variety of training styles and energy zones to improve health and fitness. Be ready for the ride of your life as the instructor has you sprint\, climb hills\, and other drills to simulate outdoor riding!
URL:https://robinsfss.com/event/spin-fitness-class/2026-06-10/
LOCATION:Fitness Center\, 826 Eighth Street\, Robins AFB\, GA\, 31098\, United States
CATEGORIES:Fitness Classes
ATTACH;FMTTYPE=image/png:https://robinsfss.com/wp-content/uploads/2024/08/spintues.png
END:VEVENT
BEGIN:VEVENT
DTSTART;TZID=UTC:20260612T113000
DTEND;TZID=UTC:20260612T121500
DTSTAMP:20260422T094450
CREATED:20250224T190732Z
LAST-MODIFIED:20250224T190732Z
UID:10009594-1781263800-1781266500@robinsfss.com
SUMMARY:Cycling Fitness Class
DESCRIPTION:A 45 minute challenging and exhilarating high-intensity indoor cycling class designed to strengthen your mind\, body\, and soul by building cardio and muscle endurance.
URL:https://robinsfss.com/event/cycling-fitness-class/2026-06-12/
LOCATION:Fitness Center\, 826 Eighth Street\, Robins AFB\, GA\, 31098\, United States
CATEGORIES:Fitness Classes
ATTACH;FMTTYPE=image/png:https://robinsfss.com/wp-content/uploads/2024/08/spintues.png
END:VEVENT
BEGIN:VEVENT
DTSTART;TZID=UTC:20260615T160000
DTEND;TZID=UTC:20260615T170000
DTSTAMP:20260422T094450
CREATED:20240812T175447Z
LAST-MODIFIED:20240918T042403Z
UID:10009436-1781539200-1781542800@robinsfss.com
SUMMARY:Spin Fitness Class
DESCRIPTION:Indoor cycling exposing participants to a variety of training styles and energy zones to improve health and fitness. Be ready for the ride of your life as the instructor has you sprint\, climb hills\, and other drills to simulate outdoor riding!
URL:https://robinsfss.com/event/spin-fitness-class/2026-06-15/
LOCATION:Fitness Center\, 826 Eighth Street\, Robins AFB\, GA\, 31098\, United States
CATEGORIES:Fitness Classes
ATTACH;FMTTYPE=image/png:https://robinsfss.com/wp-content/uploads/2024/08/spintues.png
END:VEVENT
BEGIN:VEVENT
DTSTART;TZID=UTC:20260617T160000
DTEND;TZID=UTC:20260617T170000
DTSTAMP:20260422T094450
CREATED:20240812T175447Z
LAST-MODIFIED:20240918T042403Z
UID:10009437-1781712000-1781715600@robinsfss.com
SUMMARY:Spin Fitness Class
DESCRIPTION:Indoor cycling exposing participants to a variety of training styles and energy zones to improve health and fitness. Be ready for the ride of your life as the instructor has you sprint\, climb hills\, and other drills to simulate outdoor riding!
URL:https://robinsfss.com/event/spin-fitness-class/2026-06-17/
LOCATION:Fitness Center\, 826 Eighth Street\, Robins AFB\, GA\, 31098\, United States
CATEGORIES:Fitness Classes
ATTACH;FMTTYPE=image/png:https://robinsfss.com/wp-content/uploads/2024/08/spintues.png
END:VEVENT
BEGIN:VEVENT
DTSTART;TZID=UTC:20260619T113000
DTEND;TZID=UTC:20260619T121500
DTSTAMP:20260422T094450
CREATED:20250224T190732Z
LAST-MODIFIED:20250224T190732Z
UID:10009595-1781868600-1781871300@robinsfss.com
SUMMARY:Cycling Fitness Class
DESCRIPTION:A 45 minute challenging and exhilarating high-intensity indoor cycling class designed to strengthen your mind\, body\, and soul by building cardio and muscle endurance.
URL:https://robinsfss.com/event/cycling-fitness-class/2026-06-19/
LOCATION:Fitness Center\, 826 Eighth Street\, Robins AFB\, GA\, 31098\, United States
CATEGORIES:Fitness Classes
ATTACH;FMTTYPE=image/png:https://robinsfss.com/wp-content/uploads/2024/08/spintues.png
END:VEVENT
BEGIN:VEVENT
DTSTART;TZID=UTC:20260622T160000
DTEND;TZID=UTC:20260622T170000
DTSTAMP:20260422T094450
CREATED:20240812T175447Z
LAST-MODIFIED:20240918T042403Z
UID:10009438-1782144000-1782147600@robinsfss.com
SUMMARY:Spin Fitness Class
DESCRIPTION:Indoor cycling exposing participants to a variety of training styles and energy zones to improve health and fitness. Be ready for the ride of your life as the instructor has you sprint\, climb hills\, and other drills to simulate outdoor riding!
URL:https://robinsfss.com/event/spin-fitness-class/2026-06-22/
LOCATION:Fitness Center\, 826 Eighth Street\, Robins AFB\, GA\, 31098\, United States
CATEGORIES:Fitness Classes
ATTACH;FMTTYPE=image/png:https://robinsfss.com/wp-content/uploads/2024/08/spintues.png
END:VEVENT
BEGIN:VEVENT
DTSTART;TZID=UTC:20260624T160000
DTEND;TZID=UTC:20260624T170000
DTSTAMP:20260422T094450
CREATED:20240812T175447Z
LAST-MODIFIED:20240918T042403Z
UID:10009439-1782316800-1782320400@robinsfss.com
SUMMARY:Spin Fitness Class
DESCRIPTION:Indoor cycling exposing participants to a variety of training styles and energy zones to improve health and fitness. Be ready for the ride of your life as the instructor has you sprint\, climb hills\, and other drills to simulate outdoor riding!
URL:https://robinsfss.com/event/spin-fitness-class/2026-06-24/
LOCATION:Fitness Center\, 826 Eighth Street\, Robins AFB\, GA\, 31098\, United States
CATEGORIES:Fitness Classes
ATTACH;FMTTYPE=image/png:https://robinsfss.com/wp-content/uploads/2024/08/spintues.png
END:VEVENT
BEGIN:VEVENT
DTSTART;TZID=UTC:20260626T113000
DTEND;TZID=UTC:20260626T121500
DTSTAMP:20260422T094450
CREATED:20250224T190732Z
LAST-MODIFIED:20250224T190732Z
UID:10009596-1782473400-1782476100@robinsfss.com
SUMMARY:Cycling Fitness Class
DESCRIPTION:A 45 minute challenging and exhilarating high-intensity indoor cycling class designed to strengthen your mind\, body\, and soul by building cardio and muscle endurance.
URL:https://robinsfss.com/event/cycling-fitness-class/2026-06-26/
LOCATION:Fitness Center\, 826 Eighth Street\, Robins AFB\, GA\, 31098\, United States
CATEGORIES:Fitness Classes
ATTACH;FMTTYPE=image/png:https://robinsfss.com/wp-content/uploads/2024/08/spintues.png
END:VEVENT
BEGIN:VEVENT
DTSTART;TZID=UTC:20260629T160000
DTEND;TZID=UTC:20260629T170000
DTSTAMP:20260422T094450
CREATED:20240812T175447Z
LAST-MODIFIED:20240918T042403Z
UID:10009440-1782748800-1782752400@robinsfss.com
SUMMARY:Spin Fitness Class
DESCRIPTION:Indoor cycling exposing participants to a variety of training styles and energy zones to improve health and fitness. Be ready for the ride of your life as the instructor has you sprint\, climb hills\, and other drills to simulate outdoor riding!
URL:https://robinsfss.com/event/spin-fitness-class/2026-06-29/
LOCATION:Fitness Center\, 826 Eighth Street\, Robins AFB\, GA\, 31098\, United States
CATEGORIES:Fitness Classes
ATTACH;FMTTYPE=image/png:https://robinsfss.com/wp-content/uploads/2024/08/spintues.png
END:VEVENT
END:VCALENDAR