BEGIN:VCALENDAR
VERSION:2.0
PRODID:-//Robins AFB - ECPv6.15.20//NONSGML v1.0//EN
CALSCALE:GREGORIAN
METHOD:PUBLISH
X-WR-CALNAME:Robins AFB
X-ORIGINAL-URL:https://robinsfss.com
X-WR-CALDESC:Events for Robins AFB
REFRESH-INTERVAL;VALUE=DURATION:PT1H
X-Robots-Tag:noindex
X-PUBLISHED-TTL:PT1H
BEGIN:VTIMEZONE
TZID:UTC
BEGIN:STANDARD
TZOFFSETFROM:+0000
TZOFFSETTO:+0000
TZNAME:UTC
DTSTART:20250101T000000
END:STANDARD
END:VTIMEZONE
BEGIN:VEVENT
DTSTART;TZID=UTC:20260427T160000
DTEND;TZID=UTC:20260427T170000
DTSTAMP:20260423T043701
CREATED:20240812T175954Z
LAST-MODIFIED:20240918T043552Z
UID:10009380-1777305600-1777309200@robinsfss.com
SUMMARY:Zumba Fitness Class
DESCRIPTION:Zumba fuses easy to follow dance moves with aerobic conditioning to make exercising fun for all fitness levels.
URL:https://robinsfss.com/event/zumba-fitness-class/2026-04-27/
LOCATION:Fitness Center\, 826 Eighth Street\, Robins AFB\, GA\, 31098\, United States
CATEGORIES:Fitness Classes
ATTACH;FMTTYPE=image/png:https://robinsfss.com/wp-content/uploads/2024/08/zumbaclass.png
END:VEVENT
BEGIN:VEVENT
DTSTART;TZID=UTC:20260429T160000
DTEND;TZID=UTC:20260429T170000
DTSTAMP:20260423T043701
CREATED:20250224T190052Z
LAST-MODIFIED:20250408T144652Z
UID:10009462-1777478400-1777482000@robinsfss.com
SUMMARY:Zumba Fitness Class
DESCRIPTION:Zumba fuses easy to follow dance moves with aerobic conditioning to make exercising fun for all fitness levels.
URL:https://robinsfss.com/event/zumba-fitness-class-3/2026-04-29/
LOCATION:Fitness Center\, 826 Eighth Street\, Robins AFB\, GA\, 31098\, United States
CATEGORIES:Fitness Classes
ATTACH;FMTTYPE=image/png:https://robinsfss.com/wp-content/uploads/2024/08/zumbaclass.png
END:VEVENT
BEGIN:VEVENT
DTSTART;TZID=UTC:20260504T160000
DTEND;TZID=UTC:20260504T170000
DTSTAMP:20260423T043701
CREATED:20240812T175954Z
LAST-MODIFIED:20240918T043552Z
UID:10009390-1777910400-1777914000@robinsfss.com
SUMMARY:Zumba Fitness Class
DESCRIPTION:Zumba fuses easy to follow dance moves with aerobic conditioning to make exercising fun for all fitness levels.
URL:https://robinsfss.com/event/zumba-fitness-class/2026-05-04/
LOCATION:Fitness Center\, 826 Eighth Street\, Robins AFB\, GA\, 31098\, United States
CATEGORIES:Fitness Classes
ATTACH;FMTTYPE=image/png:https://robinsfss.com/wp-content/uploads/2024/08/zumbaclass.png
END:VEVENT
BEGIN:VEVENT
DTSTART;TZID=UTC:20260506T160000
DTEND;TZID=UTC:20260506T170000
DTSTAMP:20260423T043701
CREATED:20250224T190052Z
LAST-MODIFIED:20250408T144652Z
UID:10009463-1778083200-1778086800@robinsfss.com
SUMMARY:Zumba Fitness Class
DESCRIPTION:Zumba fuses easy to follow dance moves with aerobic conditioning to make exercising fun for all fitness levels.
URL:https://robinsfss.com/event/zumba-fitness-class-3/2026-05-06/
LOCATION:Fitness Center\, 826 Eighth Street\, Robins AFB\, GA\, 31098\, United States
CATEGORIES:Fitness Classes
ATTACH;FMTTYPE=image/png:https://robinsfss.com/wp-content/uploads/2024/08/zumbaclass.png
END:VEVENT
BEGIN:VEVENT
DTSTART;TZID=UTC:20260511T160000
DTEND;TZID=UTC:20260511T170000
DTSTAMP:20260423T043701
CREATED:20240812T175954Z
LAST-MODIFIED:20240918T043552Z
UID:10009405-1778515200-1778518800@robinsfss.com
SUMMARY:Zumba Fitness Class
DESCRIPTION:Zumba fuses easy to follow dance moves with aerobic conditioning to make exercising fun for all fitness levels.
URL:https://robinsfss.com/event/zumba-fitness-class/2026-05-11/
LOCATION:Fitness Center\, 826 Eighth Street\, Robins AFB\, GA\, 31098\, United States
CATEGORIES:Fitness Classes
ATTACH;FMTTYPE=image/png:https://robinsfss.com/wp-content/uploads/2024/08/zumbaclass.png
END:VEVENT
BEGIN:VEVENT
DTSTART;TZID=UTC:20260513T160000
DTEND;TZID=UTC:20260513T170000
DTSTAMP:20260423T043701
CREATED:20250224T190052Z
LAST-MODIFIED:20250408T144652Z
UID:10009464-1778688000-1778691600@robinsfss.com
SUMMARY:Zumba Fitness Class
DESCRIPTION:Zumba fuses easy to follow dance moves with aerobic conditioning to make exercising fun for all fitness levels.
URL:https://robinsfss.com/event/zumba-fitness-class-3/2026-05-13/
LOCATION:Fitness Center\, 826 Eighth Street\, Robins AFB\, GA\, 31098\, United States
CATEGORIES:Fitness Classes
ATTACH;FMTTYPE=image/png:https://robinsfss.com/wp-content/uploads/2024/08/zumbaclass.png
END:VEVENT
BEGIN:VEVENT
DTSTART;TZID=UTC:20260518T160000
DTEND;TZID=UTC:20260518T170000
DTSTAMP:20260423T043701
CREATED:20240812T175954Z
LAST-MODIFIED:20240918T043552Z
UID:10009415-1779120000-1779123600@robinsfss.com
SUMMARY:Zumba Fitness Class
DESCRIPTION:Zumba fuses easy to follow dance moves with aerobic conditioning to make exercising fun for all fitness levels.
URL:https://robinsfss.com/event/zumba-fitness-class/2026-05-18/
LOCATION:Fitness Center\, 826 Eighth Street\, Robins AFB\, GA\, 31098\, United States
CATEGORIES:Fitness Classes
ATTACH;FMTTYPE=image/png:https://robinsfss.com/wp-content/uploads/2024/08/zumbaclass.png
END:VEVENT
BEGIN:VEVENT
DTSTART;TZID=UTC:20260520T160000
DTEND;TZID=UTC:20260520T170000
DTSTAMP:20260423T043701
CREATED:20250224T190052Z
LAST-MODIFIED:20250408T144652Z
UID:10009465-1779292800-1779296400@robinsfss.com
SUMMARY:Zumba Fitness Class
DESCRIPTION:Zumba fuses easy to follow dance moves with aerobic conditioning to make exercising fun for all fitness levels.
URL:https://robinsfss.com/event/zumba-fitness-class-3/2026-05-20/
LOCATION:Fitness Center\, 826 Eighth Street\, Robins AFB\, GA\, 31098\, United States
CATEGORIES:Fitness Classes
ATTACH;FMTTYPE=image/png:https://robinsfss.com/wp-content/uploads/2024/08/zumbaclass.png
END:VEVENT
BEGIN:VEVENT
DTSTART;TZID=UTC:20260525T160000
DTEND;TZID=UTC:20260525T170000
DTSTAMP:20260423T043701
CREATED:20240812T175954Z
LAST-MODIFIED:20240918T043552Z
UID:10009426-1779724800-1779728400@robinsfss.com
SUMMARY:Zumba Fitness Class
DESCRIPTION:Zumba fuses easy to follow dance moves with aerobic conditioning to make exercising fun for all fitness levels.
URL:https://robinsfss.com/event/zumba-fitness-class/2026-05-25/
LOCATION:Fitness Center\, 826 Eighth Street\, Robins AFB\, GA\, 31098\, United States
CATEGORIES:Fitness Classes
ATTACH;FMTTYPE=image/png:https://robinsfss.com/wp-content/uploads/2024/08/zumbaclass.png
END:VEVENT
BEGIN:VEVENT
DTSTART;TZID=UTC:20260527T160000
DTEND;TZID=UTC:20260527T170000
DTSTAMP:20260423T043701
CREATED:20250224T190052Z
LAST-MODIFIED:20250408T144652Z
UID:10009466-1779897600-1779901200@robinsfss.com
SUMMARY:Zumba Fitness Class
DESCRIPTION:Zumba fuses easy to follow dance moves with aerobic conditioning to make exercising fun for all fitness levels.
URL:https://robinsfss.com/event/zumba-fitness-class-3/2026-05-27/
LOCATION:Fitness Center\, 826 Eighth Street\, Robins AFB\, GA\, 31098\, United States
CATEGORIES:Fitness Classes
ATTACH;FMTTYPE=image/png:https://robinsfss.com/wp-content/uploads/2024/08/zumbaclass.png
END:VEVENT
BEGIN:VEVENT
DTSTART;TZID=UTC:20260601T160000
DTEND;TZID=UTC:20260601T170000
DTSTAMP:20260423T043701
CREATED:20240812T175954Z
LAST-MODIFIED:20240918T043552Z
UID:10009635-1780329600-1780333200@robinsfss.com
SUMMARY:Zumba Fitness Class
DESCRIPTION:Zumba fuses easy to follow dance moves with aerobic conditioning to make exercising fun for all fitness levels.
URL:https://robinsfss.com/event/zumba-fitness-class/2026-06-01/
LOCATION:Fitness Center\, 826 Eighth Street\, Robins AFB\, GA\, 31098\, United States
CATEGORIES:Fitness Classes
ATTACH;FMTTYPE=image/png:https://robinsfss.com/wp-content/uploads/2024/08/zumbaclass.png
END:VEVENT
BEGIN:VEVENT
DTSTART;TZID=UTC:20260603T160000
DTEND;TZID=UTC:20260603T170000
DTSTAMP:20260423T043701
CREATED:20250224T190052Z
LAST-MODIFIED:20250408T144652Z
UID:10009467-1780502400-1780506000@robinsfss.com
SUMMARY:Zumba Fitness Class
DESCRIPTION:Zumba fuses easy to follow dance moves with aerobic conditioning to make exercising fun for all fitness levels.
URL:https://robinsfss.com/event/zumba-fitness-class-3/2026-06-03/
LOCATION:Fitness Center\, 826 Eighth Street\, Robins AFB\, GA\, 31098\, United States
CATEGORIES:Fitness Classes
ATTACH;FMTTYPE=image/png:https://robinsfss.com/wp-content/uploads/2024/08/zumbaclass.png
END:VEVENT
BEGIN:VEVENT
DTSTART;TZID=UTC:20260608T160000
DTEND;TZID=UTC:20260608T170000
DTSTAMP:20260423T043701
CREATED:20240812T175954Z
LAST-MODIFIED:20240918T043552Z
UID:10009636-1780934400-1780938000@robinsfss.com
SUMMARY:Zumba Fitness Class
DESCRIPTION:Zumba fuses easy to follow dance moves with aerobic conditioning to make exercising fun for all fitness levels.
URL:https://robinsfss.com/event/zumba-fitness-class/2026-06-08/
LOCATION:Fitness Center\, 826 Eighth Street\, Robins AFB\, GA\, 31098\, United States
CATEGORIES:Fitness Classes
ATTACH;FMTTYPE=image/png:https://robinsfss.com/wp-content/uploads/2024/08/zumbaclass.png
END:VEVENT
BEGIN:VEVENT
DTSTART;TZID=UTC:20260610T160000
DTEND;TZID=UTC:20260610T170000
DTSTAMP:20260423T043701
CREATED:20250224T190052Z
LAST-MODIFIED:20250408T144652Z
UID:10009468-1781107200-1781110800@robinsfss.com
SUMMARY:Zumba Fitness Class
DESCRIPTION:Zumba fuses easy to follow dance moves with aerobic conditioning to make exercising fun for all fitness levels.
URL:https://robinsfss.com/event/zumba-fitness-class-3/2026-06-10/
LOCATION:Fitness Center\, 826 Eighth Street\, Robins AFB\, GA\, 31098\, United States
CATEGORIES:Fitness Classes
ATTACH;FMTTYPE=image/png:https://robinsfss.com/wp-content/uploads/2024/08/zumbaclass.png
END:VEVENT
BEGIN:VEVENT
DTSTART;TZID=UTC:20260615T160000
DTEND;TZID=UTC:20260615T170000
DTSTAMP:20260423T043701
CREATED:20240812T175954Z
LAST-MODIFIED:20240918T043552Z
UID:10009637-1781539200-1781542800@robinsfss.com
SUMMARY:Zumba Fitness Class
DESCRIPTION:Zumba fuses easy to follow dance moves with aerobic conditioning to make exercising fun for all fitness levels.
URL:https://robinsfss.com/event/zumba-fitness-class/2026-06-15/
LOCATION:Fitness Center\, 826 Eighth Street\, Robins AFB\, GA\, 31098\, United States
CATEGORIES:Fitness Classes
ATTACH;FMTTYPE=image/png:https://robinsfss.com/wp-content/uploads/2024/08/zumbaclass.png
END:VEVENT
BEGIN:VEVENT
DTSTART;TZID=UTC:20260617T160000
DTEND;TZID=UTC:20260617T170000
DTSTAMP:20260423T043701
CREATED:20250224T190052Z
LAST-MODIFIED:20250408T144652Z
UID:10009469-1781712000-1781715600@robinsfss.com
SUMMARY:Zumba Fitness Class
DESCRIPTION:Zumba fuses easy to follow dance moves with aerobic conditioning to make exercising fun for all fitness levels.
URL:https://robinsfss.com/event/zumba-fitness-class-3/2026-06-17/
LOCATION:Fitness Center\, 826 Eighth Street\, Robins AFB\, GA\, 31098\, United States
CATEGORIES:Fitness Classes
ATTACH;FMTTYPE=image/png:https://robinsfss.com/wp-content/uploads/2024/08/zumbaclass.png
END:VEVENT
BEGIN:VEVENT
DTSTART;TZID=UTC:20260622T160000
DTEND;TZID=UTC:20260622T170000
DTSTAMP:20260423T043701
CREATED:20240812T175954Z
LAST-MODIFIED:20240918T043552Z
UID:10009638-1782144000-1782147600@robinsfss.com
SUMMARY:Zumba Fitness Class
DESCRIPTION:Zumba fuses easy to follow dance moves with aerobic conditioning to make exercising fun for all fitness levels.
URL:https://robinsfss.com/event/zumba-fitness-class/2026-06-22/
LOCATION:Fitness Center\, 826 Eighth Street\, Robins AFB\, GA\, 31098\, United States
CATEGORIES:Fitness Classes
ATTACH;FMTTYPE=image/png:https://robinsfss.com/wp-content/uploads/2024/08/zumbaclass.png
END:VEVENT
BEGIN:VEVENT
DTSTART;TZID=UTC:20260624T160000
DTEND;TZID=UTC:20260624T170000
DTSTAMP:20260423T043701
CREATED:20250224T190052Z
LAST-MODIFIED:20250408T144652Z
UID:10009470-1782316800-1782320400@robinsfss.com
SUMMARY:Zumba Fitness Class
DESCRIPTION:Zumba fuses easy to follow dance moves with aerobic conditioning to make exercising fun for all fitness levels.
URL:https://robinsfss.com/event/zumba-fitness-class-3/2026-06-24/
LOCATION:Fitness Center\, 826 Eighth Street\, Robins AFB\, GA\, 31098\, United States
CATEGORIES:Fitness Classes
ATTACH;FMTTYPE=image/png:https://robinsfss.com/wp-content/uploads/2024/08/zumbaclass.png
END:VEVENT
BEGIN:VEVENT
DTSTART;TZID=UTC:20260629T160000
DTEND;TZID=UTC:20260629T170000
DTSTAMP:20260423T043701
CREATED:20240812T175954Z
LAST-MODIFIED:20240918T043552Z
UID:10009639-1782748800-1782752400@robinsfss.com
SUMMARY:Zumba Fitness Class
DESCRIPTION:Zumba fuses easy to follow dance moves with aerobic conditioning to make exercising fun for all fitness levels.
URL:https://robinsfss.com/event/zumba-fitness-class/2026-06-29/
LOCATION:Fitness Center\, 826 Eighth Street\, Robins AFB\, GA\, 31098\, United States
CATEGORIES:Fitness Classes
ATTACH;FMTTYPE=image/png:https://robinsfss.com/wp-content/uploads/2024/08/zumbaclass.png
END:VEVENT
BEGIN:VEVENT
DTSTART;TZID=UTC:20260701T160000
DTEND;TZID=UTC:20260701T170000
DTSTAMP:20260423T043701
CREATED:20250224T190052Z
LAST-MODIFIED:20250408T144652Z
UID:10009471-1782921600-1782925200@robinsfss.com
SUMMARY:Zumba Fitness Class
DESCRIPTION:Zumba fuses easy to follow dance moves with aerobic conditioning to make exercising fun for all fitness levels.
URL:https://robinsfss.com/event/zumba-fitness-class-3/2026-07-01/
LOCATION:Fitness Center\, 826 Eighth Street\, Robins AFB\, GA\, 31098\, United States
CATEGORIES:Fitness Classes
ATTACH;FMTTYPE=image/png:https://robinsfss.com/wp-content/uploads/2024/08/zumbaclass.png
END:VEVENT
BEGIN:VEVENT
DTSTART;TZID=UTC:20260706T160000
DTEND;TZID=UTC:20260706T170000
DTSTAMP:20260423T043701
CREATED:20240812T175954Z
LAST-MODIFIED:20240918T043552Z
UID:10009640-1783353600-1783357200@robinsfss.com
SUMMARY:Zumba Fitness Class
DESCRIPTION:Zumba fuses easy to follow dance moves with aerobic conditioning to make exercising fun for all fitness levels.
URL:https://robinsfss.com/event/zumba-fitness-class/2026-07-06/
LOCATION:Fitness Center\, 826 Eighth Street\, Robins AFB\, GA\, 31098\, United States
CATEGORIES:Fitness Classes
ATTACH;FMTTYPE=image/png:https://robinsfss.com/wp-content/uploads/2024/08/zumbaclass.png
END:VEVENT
BEGIN:VEVENT
DTSTART;TZID=UTC:20260708T160000
DTEND;TZID=UTC:20260708T170000
DTSTAMP:20260423T043701
CREATED:20250224T190052Z
LAST-MODIFIED:20250408T144652Z
UID:10009472-1783526400-1783530000@robinsfss.com
SUMMARY:Zumba Fitness Class
DESCRIPTION:Zumba fuses easy to follow dance moves with aerobic conditioning to make exercising fun for all fitness levels.
URL:https://robinsfss.com/event/zumba-fitness-class-3/2026-07-08/
LOCATION:Fitness Center\, 826 Eighth Street\, Robins AFB\, GA\, 31098\, United States
CATEGORIES:Fitness Classes
ATTACH;FMTTYPE=image/png:https://robinsfss.com/wp-content/uploads/2024/08/zumbaclass.png
END:VEVENT
BEGIN:VEVENT
DTSTART;TZID=UTC:20260713T160000
DTEND;TZID=UTC:20260713T170000
DTSTAMP:20260423T043701
CREATED:20240812T175954Z
LAST-MODIFIED:20240918T043552Z
UID:10009641-1783958400-1783962000@robinsfss.com
SUMMARY:Zumba Fitness Class
DESCRIPTION:Zumba fuses easy to follow dance moves with aerobic conditioning to make exercising fun for all fitness levels.
URL:https://robinsfss.com/event/zumba-fitness-class/2026-07-13/
LOCATION:Fitness Center\, 826 Eighth Street\, Robins AFB\, GA\, 31098\, United States
CATEGORIES:Fitness Classes
ATTACH;FMTTYPE=image/png:https://robinsfss.com/wp-content/uploads/2024/08/zumbaclass.png
END:VEVENT
BEGIN:VEVENT
DTSTART;TZID=UTC:20260715T160000
DTEND;TZID=UTC:20260715T170000
DTSTAMP:20260423T043701
CREATED:20250224T190052Z
LAST-MODIFIED:20250408T144652Z
UID:10009473-1784131200-1784134800@robinsfss.com
SUMMARY:Zumba Fitness Class
DESCRIPTION:Zumba fuses easy to follow dance moves with aerobic conditioning to make exercising fun for all fitness levels.
URL:https://robinsfss.com/event/zumba-fitness-class-3/2026-07-15/
LOCATION:Fitness Center\, 826 Eighth Street\, Robins AFB\, GA\, 31098\, United States
CATEGORIES:Fitness Classes
ATTACH;FMTTYPE=image/png:https://robinsfss.com/wp-content/uploads/2024/08/zumbaclass.png
END:VEVENT
BEGIN:VEVENT
DTSTART;TZID=UTC:20260720T160000
DTEND;TZID=UTC:20260720T170000
DTSTAMP:20260423T043701
CREATED:20240812T175954Z
LAST-MODIFIED:20240918T043552Z
UID:10009642-1784563200-1784566800@robinsfss.com
SUMMARY:Zumba Fitness Class
DESCRIPTION:Zumba fuses easy to follow dance moves with aerobic conditioning to make exercising fun for all fitness levels.
URL:https://robinsfss.com/event/zumba-fitness-class/2026-07-20/
LOCATION:Fitness Center\, 826 Eighth Street\, Robins AFB\, GA\, 31098\, United States
CATEGORIES:Fitness Classes
ATTACH;FMTTYPE=image/png:https://robinsfss.com/wp-content/uploads/2024/08/zumbaclass.png
END:VEVENT
BEGIN:VEVENT
DTSTART;TZID=UTC:20260722T160000
DTEND;TZID=UTC:20260722T170000
DTSTAMP:20260423T043701
CREATED:20250224T190052Z
LAST-MODIFIED:20250408T144652Z
UID:10009474-1784736000-1784739600@robinsfss.com
SUMMARY:Zumba Fitness Class
DESCRIPTION:Zumba fuses easy to follow dance moves with aerobic conditioning to make exercising fun for all fitness levels.
URL:https://robinsfss.com/event/zumba-fitness-class-3/2026-07-22/
LOCATION:Fitness Center\, 826 Eighth Street\, Robins AFB\, GA\, 31098\, United States
CATEGORIES:Fitness Classes
ATTACH;FMTTYPE=image/png:https://robinsfss.com/wp-content/uploads/2024/08/zumbaclass.png
END:VEVENT
BEGIN:VEVENT
DTSTART;TZID=UTC:20260727T160000
DTEND;TZID=UTC:20260727T170000
DTSTAMP:20260423T043701
CREATED:20240812T175954Z
LAST-MODIFIED:20240918T043552Z
UID:10009643-1785168000-1785171600@robinsfss.com
SUMMARY:Zumba Fitness Class
DESCRIPTION:Zumba fuses easy to follow dance moves with aerobic conditioning to make exercising fun for all fitness levels.
URL:https://robinsfss.com/event/zumba-fitness-class/2026-07-27/
LOCATION:Fitness Center\, 826 Eighth Street\, Robins AFB\, GA\, 31098\, United States
CATEGORIES:Fitness Classes
ATTACH;FMTTYPE=image/png:https://robinsfss.com/wp-content/uploads/2024/08/zumbaclass.png
END:VEVENT
BEGIN:VEVENT
DTSTART;TZID=UTC:20260729T160000
DTEND;TZID=UTC:20260729T170000
DTSTAMP:20260423T043701
CREATED:20250224T190052Z
LAST-MODIFIED:20250408T144652Z
UID:10009475-1785340800-1785344400@robinsfss.com
SUMMARY:Zumba Fitness Class
DESCRIPTION:Zumba fuses easy to follow dance moves with aerobic conditioning to make exercising fun for all fitness levels.
URL:https://robinsfss.com/event/zumba-fitness-class-3/2026-07-29/
LOCATION:Fitness Center\, 826 Eighth Street\, Robins AFB\, GA\, 31098\, United States
CATEGORIES:Fitness Classes
ATTACH;FMTTYPE=image/png:https://robinsfss.com/wp-content/uploads/2024/08/zumbaclass.png
END:VEVENT
BEGIN:VEVENT
DTSTART;TZID=UTC:20260803T160000
DTEND;TZID=UTC:20260803T170000
DTSTAMP:20260423T043701
CREATED:20240812T175954Z
LAST-MODIFIED:20240918T043552Z
UID:10009644-1785772800-1785776400@robinsfss.com
SUMMARY:Zumba Fitness Class
DESCRIPTION:Zumba fuses easy to follow dance moves with aerobic conditioning to make exercising fun for all fitness levels.
URL:https://robinsfss.com/event/zumba-fitness-class/2026-08-03/
LOCATION:Fitness Center\, 826 Eighth Street\, Robins AFB\, GA\, 31098\, United States
CATEGORIES:Fitness Classes
ATTACH;FMTTYPE=image/png:https://robinsfss.com/wp-content/uploads/2024/08/zumbaclass.png
END:VEVENT
BEGIN:VEVENT
DTSTART;TZID=UTC:20260805T160000
DTEND;TZID=UTC:20260805T170000
DTSTAMP:20260423T043701
CREATED:20250224T190052Z
LAST-MODIFIED:20250408T144652Z
UID:10009476-1785945600-1785949200@robinsfss.com
SUMMARY:Zumba Fitness Class
DESCRIPTION:Zumba fuses easy to follow dance moves with aerobic conditioning to make exercising fun for all fitness levels.
URL:https://robinsfss.com/event/zumba-fitness-class-3/2026-08-05/
LOCATION:Fitness Center\, 826 Eighth Street\, Robins AFB\, GA\, 31098\, United States
CATEGORIES:Fitness Classes
ATTACH;FMTTYPE=image/png:https://robinsfss.com/wp-content/uploads/2024/08/zumbaclass.png
END:VEVENT
END:VCALENDAR